BEGIN:VCALENDAR
VERSION:2.0
PRODID:-//Somero - ECPv6.15.20//NONSGML v1.0//EN
CALSCALE:GREGORIAN
METHOD:PUBLISH
X-WR-CALNAME:Somero
X-ORIGINAL-URL:https://www.somero.com
X-WR-CALDESC:Events for Somero
REFRESH-INTERVAL;VALUE=DURATION:PT1H
X-Robots-Tag:noindex
X-PUBLISHED-TTL:PT1H
BEGIN:VTIMEZONE
TZID:UTC
BEGIN:STANDARD
TZOFFSETFROM:+0000
TZOFFSETTO:+0000
TZNAME:UTC
DTSTART:20240101T000000
END:STANDARD
END:VTIMEZONE
BEGIN:VEVENT
DTSTART;TZID=UTC:20250630T080000
DTEND;TZID=UTC:20250701T170000
DTSTAMP:20260421T151625
CREATED:20250405T034052Z
LAST-MODIFIED:20250605T193638Z
UID:10000069-1751270400-1751389200@www.somero.com
SUMMARY:Houghton\, MI class – “DRY” S-28EZ “Basics
DESCRIPTION:“DRY” S-28EZ  “Basics” –  This is for NEW operators\, who’ve never screeded or used our equipment before; or operators changing control systems ( i.e. – they’ve run only PA or GCS controls\, now going to Oasis controls). \nNote: No concrete placed during this class. This class will use the S-28EZ. \nCourse # SCI-10001-DRY \nNOTE: This class is in Houghton\, MI \nSOUND LIKE THE CLASS FOR YOU? REGISTER FOR THIS CLASS HERE \n**DO NOT SCHEDULE ANY TRAVEL ARRANGEMENTS PRIOR TO REGISTRATION CONFIRMATION**
URL:https://www.somero.com/training-calendar/houghton-mi-class-dry-s-28ez-basics-63/
CATEGORIES:S-28EZ,United States
END:VEVENT
BEGIN:VEVENT
DTSTART;TZID=UTC:20250630T080000
DTEND;TZID=UTC:20250701T170000
DTSTAMP:20260421T151625
CREATED:20250523T184407Z
LAST-MODIFIED:20250605T193638Z
UID:10000090-1751270400-1751389200@www.somero.com
SUMMARY:“DRY” S-940 “Basics”   Course # SCI-10004-DRY
DESCRIPTION:“DRY” S-940 “Basics” – This is for NEW operators\, who’ve never screeded or used our equipment before.   Note: No concrete placed during this class                          Course # SCI-10004-DRY \nSOUND LIKE THE CLASS FOR YOU? REGISTER FOR THIS CLASS HERE \n**DO NOT SCHEDULE ANY TRAVEL ARRANGEMENTS PRIOR TO REGISTRATION CONFIRMATION**
URL:https://www.somero.com/training-calendar/dry-s-940-basics-course-sci-10004-dry/
CATEGORIES:S-940,United States
END:VEVENT
END:VCALENDAR