BEGIN:VCALENDAR
VERSION:2.0
PRODID:-//Somero - ECPv6.15.16//NONSGML v1.0//EN
CALSCALE:GREGORIAN
METHOD:PUBLISH
X-ORIGINAL-URL:https://www.somero.com
X-WR-CALDESC:Events for Somero
REFRESH-INTERVAL;VALUE=DURATION:PT1H
X-Robots-Tag:noindex
X-PUBLISHED-TTL:PT1H
BEGIN:VTIMEZONE
TZID:UTC
BEGIN:STANDARD
TZOFFSETFROM:+0000
TZOFFSETTO:+0000
TZNAME:UTC
DTSTART:20240101T000000
END:STANDARD
END:VTIMEZONE
BEGIN:VEVENT
DTSTART;TZID=UTC:20250902T080000
DTEND;TZID=UTC:20250903T170000
DTSTAMP:20260420T155316
CREATED:20250814T140143Z
LAST-MODIFIED:20250814T140719Z
UID:10000126-1756800000-1756918800@www.somero.com
SUMMARY:Houghton\, MI class – “DRY” S-28EZ “Basics”
DESCRIPTION:“DRY” S-28EZ  “Basics” –  This is for NEW operators\, who’ve never screeded or used our equipment before; or operators changing control systems ( i.e. – they’ve run only PA or GCS controls\, now going to Oasis controls)     Note: No concrete placed during this class. This class will use the new S-28EZ       Course # SCI-10001-DRY \nSOUND LIKE THE CLASS FOR YOU? REGISTER FOR THIS CLASS HERE \n**DO NOT SCHEDULE ANY TRAVEL ARRANGEMENTS PRIOR TO REGISTRATION CONFIRMATION**
URL:https://www.somero.com/training-calendar/dry-s-28ez-oasis-basics-course-sci-10001-dry/
CATEGORIES:S-28EZ,United States
END:VEVENT
END:VCALENDAR