BEGIN:VCALENDAR
VERSION:2.0
PRODID:-//Somero - ECPv6.15.16//NONSGML v1.0//EN
CALSCALE:GREGORIAN
METHOD:PUBLISH
X-WR-CALNAME:Somero
X-ORIGINAL-URL:https://www.somero.com
X-WR-CALDESC:Events for Somero
REFRESH-INTERVAL;VALUE=DURATION:PT1H
X-Robots-Tag:noindex
X-PUBLISHED-TTL:PT1H
BEGIN:VTIMEZONE
TZID:UTC
BEGIN:STANDARD
TZOFFSETFROM:+0000
TZOFFSETTO:+0000
TZNAME:UTC
DTSTART:20250101T000000
END:STANDARD
END:VTIMEZONE
BEGIN:VEVENT
DTSTART;TZID=UTC:20260302T083000
DTEND;TZID=UTC:20260303T170000
DTSTAMP:20260420T093057
CREATED:20260202T185722Z
LAST-MODIFIED:20260226T214439Z
UID:10000253-1772440200-1772557200@www.somero.com
SUMMARY:CLOSED  Houghton\, MI class – “DRY” S-28EZ “Basics”
DESCRIPTION:“DRY” S-28EZ  “Basics” –  This is for NEW operators\, who’ve never screeded or used our equipment before; or operators changing control systems ( i.e. – they’ve run only PA or GCS controls\, now going to Oasis controls)     Note: No concrete placed during this class. This class will use the S-28EZ       Course # SCI-10001-DRY \nNOTE: This class is in Houghton\, MI \nSOUND LIKE THE CLASS FOR YOU? \nREGISTER FOR THIS CLASS HERE\n  \n  \n**DO NOT SCHEDULE ANY TRAVEL ARRANGEMENTS PRIOR TO REGISTRATION CONFIRMATION**
URL:https://www.somero.com/training-calendar/houghton-mi-class-dry-s-28ez-basics-27/
CATEGORIES:S-28EZ,United States
END:VEVENT
BEGIN:VEVENT
DTSTART;TZID=UTC:20260309T083000
DTEND;TZID=UTC:20260310T170000
DTSTAMP:20260420T093057
CREATED:20260202T185506Z
LAST-MODIFIED:20260305T190857Z
UID:10000252-1773045000-1773162000@www.somero.com
SUMMARY:CLOSED Houghton\, MI class – “DRY” S-28EZ “Basics”
DESCRIPTION:“DRY” S-28EZ  “Basics” –  This is for NEW operators\, who’ve never screeded or used our equipment before; or operators changing control systems ( i.e. – they’ve run only PA or GCS controls\, now going to Oasis controls)     Note: No concrete placed during this class. This class will use the S-28EZ       Course # SCI-10001-DRY \nNOTE: This class is in Houghton\, MI \nSOUND LIKE THE CLASS FOR YOU? \nREGISTER FOR THIS CLASS HERE\n  \n**DO NOT SCHEDULE ANY TRAVEL ARRANGEMENTS PRIOR TO REGISTRATION CONFIRMATION**
URL:https://www.somero.com/training-calendar/houghton-mi-class-dry-s-28ez-basics-26/
CATEGORIES:S-28EZ,United States
END:VEVENT
BEGIN:VEVENT
DTSTART;TZID=UTC:20260316T083000
DTEND;TZID=UTC:20260317T170000
DTSTAMP:20260420T093057
CREATED:20260202T185956Z
LAST-MODIFIED:20260311T202925Z
UID:10000254-1773649800-1773766800@www.somero.com
SUMMARY:CLOSED Houghton\, MI class – “DRY” S-28EZ “Basics”
DESCRIPTION:CLASS CLOSED “DRY” S-28EZ  “Basics” –  This is for NEW operators\, who’ve never screeded or used our equipment before; or operators changing control systems ( i.e. – they’ve run only PA or GCS controls\, now going to Oasis controls)     Note: No concrete placed during this class. This class will use the S-28EZ       Course # SCI-10001-DRY \nNOTE: This class is in Houghton\, MI \nSOUND LIKE THE CLASS FOR YOU? \nREGISTER FOR THIS CLASS HERE\n  \n**DO NOT SCHEDULE ANY TRAVEL ARRANGEMENTS PRIOR TO REGISTRATION CONFIRMATION**
URL:https://www.somero.com/training-calendar/houghton-mi-class-dry-s-28ez-basics-28/
CATEGORIES:S-28EZ,United States
END:VEVENT
BEGIN:VEVENT
DTSTART;TZID=UTC:20260323T083000
DTEND;TZID=UTC:20260324T170000
DTSTAMP:20260420T093057
CREATED:20260202T190148Z
LAST-MODIFIED:20260319T164405Z
UID:10000255-1774254600-1774371600@www.somero.com
SUMMARY:CLOSED Houghton\, MI class – “DRY” S-28EZ “Basics”
DESCRIPTION:CLOSED “DRY” S-28EZ  “Basics” –  This is for NEW operators\, who’ve never screeded or used our equipment before; or operators changing control systems ( i.e. – they’ve run only PA or GCS controls\, now going to Oasis controls)     Note: No concrete placed during this class. This class will use the S-28EZ       Course # SCI-10001-DRY \nNOTE: This class is in Houghton\, MI \nSOUND LIKE THE CLASS FOR YOU? \nREGISTER FOR THIS CLASS HERE\n  \n**DO NOT SCHEDULE ANY TRAVEL ARRANGEMENTS PRIOR TO REGISTRATION CONFIRMATION**
URL:https://www.somero.com/training-calendar/houghton-mi-class-dry-s-28ez-basics-29/
CATEGORIES:S-28EZ,United States
END:VEVENT
BEGIN:VEVENT
DTSTART;TZID=UTC:20260330T083000
DTEND;TZID=UTC:20260331T170000
DTSTAMP:20260420T093057
CREATED:20260202T190501Z
LAST-MODIFIED:20260326T182246Z
UID:10000257-1774859400-1774976400@www.somero.com
SUMMARY:CLOSED Houghton\, MI class – “DRY” S-28EZ “Basics”
DESCRIPTION:CLASS CLOSED “DRY” S-28EZ  “Basics” –  This is for NEW operators\, who’ve never screeded or used our equipment before; or operators changing control systems ( i.e. – they’ve run only PA or GCS controls\, now going to Oasis controls)     Note: No concrete placed during this class. This class will use the S-28EZ       Course # SCI-10001-DRY \nNOTE: This class is in Houghton\, MI \nSOUND LIKE THE CLASS FOR YOU? \nREGISTER FOR THIS CLASS HERE\n  \n**DO NOT SCHEDULE ANY TRAVEL ARRANGEMENTS PRIOR TO REGISTRATION CONFIRMATION**
URL:https://www.somero.com/training-calendar/houghton-mi-class-dry-s-28ez-basics-31/
CATEGORIES:S-28EZ,United States
END:VEVENT
END:VCALENDAR