BEGIN:VCALENDAR
VERSION:2.0
PRODID:-//Somero - ECPv6.15.20//NONSGML v1.0//EN
CALSCALE:GREGORIAN
METHOD:PUBLISH
X-WR-CALNAME:Somero
X-ORIGINAL-URL:https://www.somero.com
X-WR-CALDESC:Events for Somero
REFRESH-INTERVAL;VALUE=DURATION:PT1H
X-Robots-Tag:noindex
X-PUBLISHED-TTL:PT1H
BEGIN:VTIMEZONE
TZID:UTC
BEGIN:STANDARD
TZOFFSETFROM:+0000
TZOFFSETTO:+0000
TZNAME:UTC
DTSTART:20250101T000000
END:STANDARD
END:VTIMEZONE
BEGIN:VEVENT
DTSTART;TZID=UTC:20260309T083000
DTEND;TZID=UTC:20260310T170000
DTSTAMP:20260424T104859
CREATED:20260130T151757Z
LAST-MODIFIED:20260309T142033Z
UID:10000355-1773045000-1773162000@www.somero.com
SUMMARY:Operators Advanced Training & Troubleshooting       Course # SCI-20012
DESCRIPTION:Operators Advanced Training & Troubleshooting – This is for EXPERIENCED operators only. (Maintenance personnel may find the troubleshooting portion beneficial) Must attend a “Basics” course as prerequisite or show prior training from Somero.   When changing from different “control systems”\, we recommend attendance of the “Basics” class first     Note: No concrete placed during this class        Course # SCI-20012-DRY \nNOTE: This class is at SCI Fort Myers\, Fl \nSOUND LIKE THE CLASS FOR YOU? \nREGISTER FOR THIS CLASS HERE\n  \n**DO NOT SCHEDULE ANY TRAVEL ARRANGEMENTS PRIOR TO REGISTRATION CONFIRMATION**
URL:https://www.somero.com/training-calendar/operators-advanced-training-troubleshooting-course-sci-20012/2026-03-09/
CATEGORIES:Operators Advanced Training & Troubleshooting,United States
END:VEVENT
BEGIN:VEVENT
DTSTART;TZID=UTC:20260323T083000
DTEND;TZID=UTC:20260324T170000
DTSTAMP:20260424T104859
CREATED:20260203T203014Z
LAST-MODIFIED:20260309T141353Z
UID:10000366-1774254600-1774371600@www.somero.com
SUMMARY:Operators Advanced Training & Troubleshooting Course # SCI-20012
DESCRIPTION:Operators Advanced Training & Troubleshooting – This is for EXPERIENCED operators only. (Maintenance personnel may find the troubleshooting portion beneficial) Must attend a “Basics” course as prerequisite or show prior training from Somero.   When changing from different “control systems”\, we recommend attendance of the “Basics” class first     Note: No concrete placed during this class        Course # SCI-20012-DRY \nNOTE: This class is at SCI Fort Myers\, Fl \nSOUND LIKE THE CLASS FOR YOU? \nREGISTER FOR THIS CLASS HERE\n  \n**DO NOT SCHEDULE ANY TRAVEL ARRANGEMENTS PRIOR TO REGISTRATION CONFIRMATION**
URL:https://www.somero.com/training-calendar/operators-advanced-training-troubleshooting-course-sci-20012-3/2026-03-23/
CATEGORIES:Operators Advanced Training & Troubleshooting,United States
END:VEVENT
END:VCALENDAR