BEGIN:VCALENDAR
VERSION:2.0
PRODID:-//Somero - ECPv6.15.20//NONSGML v1.0//EN
CALSCALE:GREGORIAN
METHOD:PUBLISH
X-ORIGINAL-URL:https://www.somero.com
X-WR-CALDESC:Events for Somero
REFRESH-INTERVAL;VALUE=DURATION:PT1H
X-Robots-Tag:noindex
X-PUBLISHED-TTL:PT1H
BEGIN:VTIMEZONE
TZID:UTC
BEGIN:STANDARD
TZOFFSETFROM:+0000
TZOFFSETTO:+0000
TZNAME:UTC
DTSTART:20250101T000000
END:STANDARD
END:VTIMEZONE
BEGIN:VEVENT
DTSTART;TZID=UTC:20260218T083000
DTEND;TZID=UTC:20260219T170000
DTSTAMP:20260424T123035
CREATED:20260118T213717Z
LAST-MODIFIED:20260118T215131Z
UID:10000233-1771403400-1771520400@www.somero.com
SUMMARY:“DRY” S-22EZ “AOT’s” (Advanced Operators Training)       Course # SCI-20012
DESCRIPTION:Closed / CLASS IS FULL
URL:https://www.somero.com/training-calendar/dry-s-22ez-aots-advanced-operators-training-course-sci-20012/
CATEGORIES:S-22EZ+,United States
END:VEVENT
BEGIN:VEVENT
DTSTART;TZID=UTC:20260218T083000
DTEND;TZID=UTC:20260219T170000
DTSTAMP:20260424T123035
CREATED:20260118T214634Z
LAST-MODIFIED:20260204T160558Z
UID:10000235-1771403400-1771520400@www.somero.com
SUMMARY:Houghton\, MI class - "DRY" 3D Version 18 “Basics”
DESCRIPTION:“DRY” 3D Version 18 “Basics” –  this class is “DRY” without concrete being placed  using Version 18 “with T-100 Tablet” – This is a “Basics” class for NEW operators or Existing operators with older/previous 3D systems that have updated to the T-100 tablet. Please note: Software version makes a huge difference. Make sure you’re attending the correct class. Course # SCI-30003-DRY \n NOTE: This class is in Houghton\, MI \nSOUND LIKE THE CLASS FOR YOU? \nREGISTER FOR THIS CLASS HERE\n  \n**DO NOT SCHEDULE ANY TRAVEL ARRANGEMENTS PRIOR TO REGISTRATION CONFIRMATION**
URL:https://www.somero.com/training-calendar/houghton-mi-class-dry-3d-version-18-basics-2/
CATEGORIES:3D,United States
END:VEVENT
END:VCALENDAR