BEGIN:VCALENDAR
VERSION:2.0
PRODID:-//Somero - ECPv6.15.16//NONSGML v1.0//EN
CALSCALE:GREGORIAN
METHOD:PUBLISH
X-WR-CALNAME:Somero
X-ORIGINAL-URL:https://www.somero.com
X-WR-CALDESC:Events for Somero
REFRESH-INTERVAL;VALUE=DURATION:PT1H
X-Robots-Tag:noindex
X-PUBLISHED-TTL:PT1H
BEGIN:VTIMEZONE
TZID:UTC
BEGIN:STANDARD
TZOFFSETFROM:+0000
TZOFFSETTO:+0000
TZNAME:UTC
DTSTART:20250101T000000
END:STANDARD
END:VTIMEZONE
BEGIN:VEVENT
DTSTART;TZID=UTC:20260518T080000
DTEND;TZID=UTC:20260522T170000
DTSTAMP:20260421T050320
CREATED:20260303T133719Z
LAST-MODIFIED:20260303T133813Z
UID:10000381-1779091200-1779469200@www.somero.com
SUMMARY:NO Classes this week
DESCRIPTION:
URL:https://www.somero.com/training-calendar/no-classes-this-week-3/
CATEGORIES:United States
END:VEVENT
END:VCALENDAR