BEGIN:VCALENDAR
VERSION:2.0
PRODID:-//Somero - ECPv6.15.16//NONSGML v1.0//EN
CALSCALE:GREGORIAN
METHOD:PUBLISH
X-ORIGINAL-URL:https://www.somero.com
X-WR-CALDESC:Events for Somero
REFRESH-INTERVAL;VALUE=DURATION:PT1H
X-Robots-Tag:noindex
X-PUBLISHED-TTL:PT1H
BEGIN:VTIMEZONE
TZID:UTC
BEGIN:STANDARD
TZOFFSETFROM:+0000
TZOFFSETTO:+0000
TZNAME:UTC
DTSTART:20250101T000000
END:STANDARD
END:VTIMEZONE
BEGIN:VEVENT
DTSTART;VALUE=DATE:20260601
DTEND;VALUE=DATE:20260606
DTSTAMP:20260421T010852
CREATED:20260408T133636Z
LAST-MODIFIED:20260408T133636Z
UID:10000394-1780272000-1780703999@www.somero.com
SUMMARY:No Classes
DESCRIPTION:No classes this week
URL:https://www.somero.com/training-calendar/no-classes-15/
CATEGORIES:United States
END:VEVENT
END:VCALENDAR