BEGIN:VCALENDAR
VERSION:2.0
PRODID:-//Somero - ECPv6.15.20//NONSGML v1.0//EN
CALSCALE:GREGORIAN
METHOD:PUBLISH
X-ORIGINAL-URL:https://www.somero.com
X-WR-CALDESC:Events for Somero
REFRESH-INTERVAL;VALUE=DURATION:PT1H
X-Robots-Tag:noindex
X-PUBLISHED-TTL:PT1H
BEGIN:VTIMEZONE
TZID:UTC
BEGIN:STANDARD
TZOFFSETFROM:+0000
TZOFFSETTO:+0000
TZNAME:UTC
DTSTART:20250101T000000
END:STANDARD
END:VTIMEZONE
BEGIN:VEVENT
DTSTART;TZID=UTC:20260615T083000
DTEND;TZID=UTC:20260616T170000
DTSTAMP:20260424T122551
CREATED:20260408T151203Z
LAST-MODIFIED:20260408T151203Z
UID:10000431-1781512200-1781629200@www.somero.com
SUMMARY:Houghton\, MI class – “DRY” S-28EZ “Basics”
DESCRIPTION:“DRY” S-28EZ  “Basics” –  This is for NEW operators\, who’ve never screeded or used our equipment before; or operators changing control systems ( i.e. – they’ve run only PA or GCS controls\, now going to Oasis controls)     Note: No concrete placed during this class. This class will use the new S-28EZ       Course # SCI-10001-DRY \nNOTE: This class is in Houghton\, MI \nSOUND LIKE THE CLASS FOR YOU?  \nREGISTER FOR THIS CLASS HERE \n**DO NOT SCHEDULE ANY TRAVEL ARRANGEMENTS PRIOR TO REGISTRATION CONFIRMATION**
URL:https://www.somero.com/training-calendar/houghton-mi-class-dry-s-28ez-basics-30/2026-06-15/
CATEGORIES:S-28EZ,United States
END:VEVENT
BEGIN:VEVENT
DTSTART;TZID=UTC:20260615T083000
DTEND;TZID=UTC:20260616T170000
DTSTAMP:20260424T122551
CREATED:20260408T172415Z
LAST-MODIFIED:20260408T172415Z
UID:10000458-1781512200-1781629200@www.somero.com
SUMMARY:“DRY” SRS-4/6 “Basics”  			Course # SCI-10010-DRY
DESCRIPTION:“DRY” SRS-4/6 “Basics”  – This is for NEW operators\, who’ve never screeded or used our equipment before    Note: No concrete placed during this class                Course # SCI-10010-DRY \nNOTE: This class is at SCI Fort Myers\, Fl \nSOUND LIKE THE CLASS FOR YOU?  \nREGISTER FOR THIS CLASS HERE \n**DO NOT SCHEDULE ANY TRAVEL ARRANGEMENTS PRIOR TO REGISTRATION CONFIRMATION** 
URL:https://www.somero.com/training-calendar/dry-srs-4-6-basics-course-sci-10010-dry-2/
CATEGORIES:SRS-4/6,United States
END:VEVENT
BEGIN:VEVENT
DTSTART;TZID=UTC:20260615T083000
DTEND;TZID=UTC:20260616T170000
DTSTAMP:20260424T122551
CREATED:20260408T172559Z
LAST-MODIFIED:20260408T172559Z
UID:10000459-1781512200-1781629200@www.somero.com
SUMMARY:“DRY” S-940/e “Basics” 			Course # SCI-10014-DRY
DESCRIPTION:“DRY” S-940/e “Basics” – This is for NEW operators\, who’ve never screeded or used our equipment before. Note: No concrete placed during this class Course # SCI-10004-DRY \nNOTE: This class is at SCI Fort Myers\, Fl \nSOUND LIKE THE CLASS FOR YOU?  \nREGISTER FOR THIS CLASS HERE \n**DO NOT SCHEDULE ANY TRAVEL ARRANGEMENTS PRIOR TO REGISTRATION CONFIRMATION** 
URL:https://www.somero.com/training-calendar/dry-s-940-e-basics-course-sci-10014-dry/
CATEGORIES:S-940,United States
END:VEVENT
END:VCALENDAR