BEGIN:VCALENDAR
VERSION:2.0
PRODID:-//Somero - ECPv6.15.16//NONSGML v1.0//EN
CALSCALE:GREGORIAN
METHOD:PUBLISH
X-WR-CALNAME:Somero
X-ORIGINAL-URL:https://www.somero.com
X-WR-CALDESC:Events for Somero
REFRESH-INTERVAL;VALUE=DURATION:PT1H
X-Robots-Tag:noindex
X-PUBLISHED-TTL:PT1H
BEGIN:VTIMEZONE
TZID:UTC
BEGIN:STANDARD
TZOFFSETFROM:+0000
TZOFFSETTO:+0000
TZNAME:UTC
DTSTART:20250101T000000
END:STANDARD
END:VTIMEZONE
BEGIN:VEVENT
DTSTART;TZID=UTC:20260817T083000
DTEND;TZID=UTC:20260818T170000
DTSTAMP:20260420T131549
CREATED:20260408T184637Z
LAST-MODIFIED:20260408T184637Z
UID:10000477-1786955400-1787072400@www.somero.com
SUMMARY:Operators Advanced Training & Troubleshooting Course # SCI-20012
DESCRIPTION:Operators Advanced Training & Troubleshooting – This is for EXPERIENCED operators only. (Maintenance personnel may find the troubleshooting portion beneficial) Must attend a “Basics” course as prerequisite or show prior training from Somero.   When changing from different “control systems”\, we recommend attendance of the “Basics” class first \nNote: No concrete placed during this class        Course # SCI-20012-DRY \nNOTE: This class is at SCI Fort Myers\, Fl \nSOUND LIKE THE CLASS FOR YOU?  \nREGISTER FOR THIS CLASS HERE \n  \n**DO NOT SCHEDULE ANY TRAVEL ARRANGEMENTS PRIOR TO REGISTRATION CONFIRMATION**
URL:https://www.somero.com/training-calendar/operators-advanced-training-troubleshooting-course-sci-20012-5/
CATEGORIES:Operators Advanced Training & Troubleshooting,United States
END:VEVENT
BEGIN:VEVENT
DTSTART;TZID=UTC:20260817T083000
DTEND;TZID=UTC:20260818T170000
DTSTAMP:20260420T131549
CREATED:20260408T184746Z
LAST-MODIFIED:20260408T184746Z
UID:10000478-1786955400-1787072400@www.somero.com
SUMMARY:“DRY” S-485 “Basics”   			Course # SCI-10005-DRY
DESCRIPTION:“DRY” S-485 “Basics” – This is for NEW operators\, who’ve never screeded or used our equipment before.    Note: No concrete placed during this class                          Course # SCI-10005-DRY \nNOTE: This class is at SCI Fort Myers\, Fl \nSOUND LIKE THE CLASS FOR YOU?  \nREGISTER FOR THIS CLASS HERE \n  \n**DO NOT SCHEDULE ANY TRAVEL ARRANGEMENTS PRIOR TO REGISTRATION CONFIRMATION**
URL:https://www.somero.com/training-calendar/dry-s-485-basics-course-sci-10005-dry-19/
CATEGORIES:S-485,United States
END:VEVENT
BEGIN:VEVENT
DTSTART;TZID=UTC:20260819T083000
DTEND;TZID=UTC:20260820T170000
DTSTAMP:20260420T131549
CREATED:20260408T151553Z
LAST-MODIFIED:20260408T151553Z
UID:10000453-1787128200-1787245200@www.somero.com
SUMMARY:Houghton\, MI class - "DRY" 3D Version 18+ “Basics”
DESCRIPTION:“DRY” 3D Version 18+ “Basics” –  this class is “DRY” without concrete being placed  using Version 18+ “with T-100 Tablet” – This is a “Basics” class for NEW operators or Existing operators with older/previous 3D systems that have updated to the T-100 tablet. Please note: Software version makes a huge difference. Make sure you’re attending the correct class. Course # SCI-30003-DRY \nPlease bring your tablet or tablets with you to class.  \nNOTE: This class is in Houghton\, MI \nSOUND LIKE THE CLASS FOR YOU?  \nREGISTER FOR THIS CLASS HERE \n**DO NOT SCHEDULE ANY TRAVEL ARRANGEMENTS PRIOR TO REGISTRATION CONFIRMATION**
URL:https://www.somero.com/training-calendar/houghton-mi-class-dry-3d-version-18-basics-10/2026-08-19/
CATEGORIES:3D,United States
END:VEVENT
BEGIN:VEVENT
DTSTART;TZID=UTC:20260819T083000
DTEND;TZID=UTC:20260820T170000
DTSTAMP:20260420T131549
CREATED:20260408T185350Z
LAST-MODIFIED:20260408T185350Z
UID:10000490-1787128200-1787245200@www.somero.com
SUMMARY:"DRY" 3D Version 18+ “Basics”	Course # SCI-30003-DRY
DESCRIPTION:“DRY” 3D Version 18+ “Basics” –  this class is “DRY” without concrete being placed  using Version 18+ “with T-100 Tablet” – This is a “Basics” class for NEW operators or Existing operators with older/previous 3D systems that have updated to the T-100 tablet. Please note: Software version makes a huge difference. Make sure you’re attending the correct class. Course # SCI-30003-DRY \nPlease bring your tablet or tablets with you to class.  \nNOTE: This class is at SCI Fort Myers\, Fl \nSOUND LIKE THE CLASS FOR YOU?  \nREGISTER FOR THIS CLASS HERE \n**DO NOT SCHEDULE ANY TRAVEL ARRANGEMENTS PRIOR TO REGISTRATION CONFIRMATION**
URL:https://www.somero.com/training-calendar/dry-3d-version-18-basicscourse-sci-30003-dry-3/2026-08-19/
CATEGORIES:3D,United States
END:VEVENT
BEGIN:VEVENT
DTSTART;TZID=UTC:20260824T083000
DTEND;TZID=UTC:20260825T170000
DTSTAMP:20260420T131549
CREATED:20260408T151203Z
LAST-MODIFIED:20260408T151203Z
UID:10000440-1787560200-1787677200@www.somero.com
SUMMARY:Houghton\, MI class – “DRY” S-28EZ “Basics”
DESCRIPTION:“DRY” S-28EZ  “Basics” –  This is for NEW operators\, who’ve never screeded or used our equipment before; or operators changing control systems ( i.e. – they’ve run only PA or GCS controls\, now going to Oasis controls)     Note: No concrete placed during this class. This class will use the new S-28EZ       Course # SCI-10001-DRY \nNOTE: This class is in Houghton\, MI \nSOUND LIKE THE CLASS FOR YOU?  \nREGISTER FOR THIS CLASS HERE \n**DO NOT SCHEDULE ANY TRAVEL ARRANGEMENTS PRIOR TO REGISTRATION CONFIRMATION**
URL:https://www.somero.com/training-calendar/houghton-mi-class-dry-s-28ez-basics-30/2026-08-24/
CATEGORIES:S-28EZ,United States
END:VEVENT
BEGIN:VEVENT
DTSTART;TZID=UTC:20260824T083000
DTEND;TZID=UTC:20260825T170000
DTSTAMP:20260420T131549
CREATED:20260408T184905Z
LAST-MODIFIED:20260408T184905Z
UID:10000479-1787560200-1787677200@www.somero.com
SUMMARY:“DRY” S-22EZ+ “Basics”   			Course # SCI-10012-DRY
DESCRIPTION:“DRY” S-22EZ +  “Basics” –  This is for NEW operators\, who’ve never screeded or used our equipment before; or operators changing control systems ( i.e. – they’ve run only PA or GCS controls\, now going to Oasis controls)     Note: No concrete placed during this class. This class will use the S-22EZ       Course # SCI-10012-DRY \nNOTE: This class is at SCI Fort Myers\, Fl \nSOUND LIKE THE CLASS FOR YOU?  \nREGISTER FOR THIS CLASS HERE \n **DO NOT SCHEDULE ANY TRAVEL ARRANGEMENTS PRIOR TO REGISTRATION CONFIRMATION**
URL:https://www.somero.com/training-calendar/dry-s-22ez-basics-course-sci-10012-dry-3/
CATEGORIES:S-22EZ+,United States
END:VEVENT
BEGIN:VEVENT
DTSTART;TZID=UTC:20260824T083000
DTEND;TZID=UTC:20260825T170000
DTSTAMP:20260420T131549
CREATED:20260408T185017Z
LAST-MODIFIED:20260408T185017Z
UID:10000480-1787560200-1787677200@www.somero.com
SUMMARY:“DRY” S-940/e “Basics” 			Course # SCI-10014-DRY
DESCRIPTION:“DRY” S-940/e “Basics” – This is for NEW operators\, who’ve never screeded or used our equipment before.   Note: No concrete placed during this class                          Course # SCI-10004-DRY \nNOTE: This class is at SCI Fort Myers\, Fl \nSOUND LIKE THE CLASS FOR YOU?  \nREGISTER FOR THIS CLASS HERE \n**DO NOT SCHEDULE ANY TRAVEL ARRANGEMENTS PRIOR TO REGISTRATION CONFIRMATION**
URL:https://www.somero.com/training-calendar/dry-s-940-e-basics-course-sci-10014-dry-6/
CATEGORIES:S-940,United States
END:VEVENT
BEGIN:VEVENT
DTSTART;TZID=UTC:20260826T083000
DTEND;TZID=UTC:20260827T170000
DTSTAMP:20260420T131549
CREATED:20260408T151553Z
LAST-MODIFIED:20260408T151553Z
UID:10000454-1787733000-1787850000@www.somero.com
SUMMARY:Houghton\, MI class - "DRY" 3D Version 18+ “Basics”
DESCRIPTION:“DRY” 3D Version 18+ “Basics” –  this class is “DRY” without concrete being placed  using Version 18+ “with T-100 Tablet” – This is a “Basics” class for NEW operators or Existing operators with older/previous 3D systems that have updated to the T-100 tablet. Please note: Software version makes a huge difference. Make sure you’re attending the correct class. Course # SCI-30003-DRY \nPlease bring your tablet or tablets with you to class.  \nNOTE: This class is in Houghton\, MI \nSOUND LIKE THE CLASS FOR YOU?  \nREGISTER FOR THIS CLASS HERE \n**DO NOT SCHEDULE ANY TRAVEL ARRANGEMENTS PRIOR TO REGISTRATION CONFIRMATION**
URL:https://www.somero.com/training-calendar/houghton-mi-class-dry-3d-version-18-basics-10/2026-08-26/
CATEGORIES:3D,United States
END:VEVENT
BEGIN:VEVENT
DTSTART;TZID=UTC:20260826T083000
DTEND;TZID=UTC:20260827T170000
DTSTAMP:20260420T131549
CREATED:20260408T185350Z
LAST-MODIFIED:20260408T185350Z
UID:10000491-1787733000-1787850000@www.somero.com
SUMMARY:"DRY" 3D Version 18+ “Basics”	Course # SCI-30003-DRY
DESCRIPTION:“DRY” 3D Version 18+ “Basics” –  this class is “DRY” without concrete being placed  using Version 18+ “with T-100 Tablet” – This is a “Basics” class for NEW operators or Existing operators with older/previous 3D systems that have updated to the T-100 tablet. Please note: Software version makes a huge difference. Make sure you’re attending the correct class. Course # SCI-30003-DRY \nPlease bring your tablet or tablets with you to class.  \nNOTE: This class is at SCI Fort Myers\, Fl \nSOUND LIKE THE CLASS FOR YOU?  \nREGISTER FOR THIS CLASS HERE \n**DO NOT SCHEDULE ANY TRAVEL ARRANGEMENTS PRIOR TO REGISTRATION CONFIRMATION**
URL:https://www.somero.com/training-calendar/dry-3d-version-18-basicscourse-sci-30003-dry-3/2026-08-26/
CATEGORIES:3D,United States
END:VEVENT
BEGIN:VEVENT
DTSTART;TZID=UTC:20260831T083000
DTEND;TZID=UTC:20260901T170000
DTSTAMP:20260420T131549
CREATED:20260408T151203Z
LAST-MODIFIED:20260408T151203Z
UID:10000441-1788165000-1788282000@www.somero.com
SUMMARY:Houghton\, MI class – “DRY” S-28EZ “Basics”
DESCRIPTION:“DRY” S-28EZ  “Basics” –  This is for NEW operators\, who’ve never screeded or used our equipment before; or operators changing control systems ( i.e. – they’ve run only PA or GCS controls\, now going to Oasis controls)     Note: No concrete placed during this class. This class will use the new S-28EZ       Course # SCI-10001-DRY \nNOTE: This class is in Houghton\, MI \nSOUND LIKE THE CLASS FOR YOU?  \nREGISTER FOR THIS CLASS HERE \n**DO NOT SCHEDULE ANY TRAVEL ARRANGEMENTS PRIOR TO REGISTRATION CONFIRMATION**
URL:https://www.somero.com/training-calendar/houghton-mi-class-dry-s-28ez-basics-30/2026-08-31/
CATEGORIES:S-28EZ,United States
END:VEVENT
BEGIN:VEVENT
DTSTART;TZID=UTC:20260902T083000
DTEND;TZID=UTC:20260903T170000
DTSTAMP:20260420T131549
CREATED:20260408T151553Z
LAST-MODIFIED:20260408T151553Z
UID:10000455-1788337800-1788454800@www.somero.com
SUMMARY:Houghton\, MI class - "DRY" 3D Version 18+ “Basics”
DESCRIPTION:“DRY” 3D Version 18+ “Basics” –  this class is “DRY” without concrete being placed  using Version 18+ “with T-100 Tablet” – This is a “Basics” class for NEW operators or Existing operators with older/previous 3D systems that have updated to the T-100 tablet. Please note: Software version makes a huge difference. Make sure you’re attending the correct class. Course # SCI-30003-DRY \nPlease bring your tablet or tablets with you to class.  \nNOTE: This class is in Houghton\, MI \nSOUND LIKE THE CLASS FOR YOU?  \nREGISTER FOR THIS CLASS HERE \n**DO NOT SCHEDULE ANY TRAVEL ARRANGEMENTS PRIOR TO REGISTRATION CONFIRMATION**
URL:https://www.somero.com/training-calendar/houghton-mi-class-dry-3d-version-18-basics-10/2026-09-02/
CATEGORIES:3D,United States
END:VEVENT
BEGIN:VEVENT
DTSTART;TZID=UTC:20260902T083000
DTEND;TZID=UTC:20260903T170000
DTSTAMP:20260420T131549
CREATED:20260408T185350Z
LAST-MODIFIED:20260408T185350Z
UID:10000492-1788337800-1788454800@www.somero.com
SUMMARY:"DRY" 3D Version 18+ “Basics”	Course # SCI-30003-DRY
DESCRIPTION:“DRY” 3D Version 18+ “Basics” –  this class is “DRY” without concrete being placed  using Version 18+ “with T-100 Tablet” – This is a “Basics” class for NEW operators or Existing operators with older/previous 3D systems that have updated to the T-100 tablet. Please note: Software version makes a huge difference. Make sure you’re attending the correct class. Course # SCI-30003-DRY \nPlease bring your tablet or tablets with you to class.  \nNOTE: This class is at SCI Fort Myers\, Fl \nSOUND LIKE THE CLASS FOR YOU?  \nREGISTER FOR THIS CLASS HERE \n**DO NOT SCHEDULE ANY TRAVEL ARRANGEMENTS PRIOR TO REGISTRATION CONFIRMATION**
URL:https://www.somero.com/training-calendar/dry-3d-version-18-basicscourse-sci-30003-dry-3/2026-09-02/
CATEGORIES:3D,United States
END:VEVENT
BEGIN:VEVENT
DTSTART;VALUE=DATE:20260907
DTEND;VALUE=DATE:20260908
DTSTAMP:20260420T131549
CREATED:20260202T194723Z
LAST-MODIFIED:20260202T194723Z
UID:10000278-1788739200-1788825599@www.somero.com
SUMMARY:No Classes
DESCRIPTION:
URL:https://www.somero.com/training-calendar/no-classes-11/
CATEGORIES:United States
END:VEVENT
BEGIN:VEVENT
DTSTART;TZID=UTC:20260909T083000
DTEND;TZID=UTC:20260910T170000
DTSTAMP:20260420T131549
CREATED:20260408T185350Z
LAST-MODIFIED:20260408T185350Z
UID:10000493-1788942600-1789059600@www.somero.com
SUMMARY:"DRY" 3D Version 18+ “Basics”	Course # SCI-30003-DRY
DESCRIPTION:“DRY” 3D Version 18+ “Basics” –  this class is “DRY” without concrete being placed  using Version 18+ “with T-100 Tablet” – This is a “Basics” class for NEW operators or Existing operators with older/previous 3D systems that have updated to the T-100 tablet. Please note: Software version makes a huge difference. Make sure you’re attending the correct class. Course # SCI-30003-DRY \nPlease bring your tablet or tablets with you to class.  \nNOTE: This class is at SCI Fort Myers\, Fl \nSOUND LIKE THE CLASS FOR YOU?  \nREGISTER FOR THIS CLASS HERE \n**DO NOT SCHEDULE ANY TRAVEL ARRANGEMENTS PRIOR TO REGISTRATION CONFIRMATION**
URL:https://www.somero.com/training-calendar/dry-3d-version-18-basicscourse-sci-30003-dry-3/2026-09-09/
CATEGORIES:3D,United States
END:VEVENT
BEGIN:VEVENT
DTSTART;VALUE=DATE:20261126
DTEND;VALUE=DATE:20261128
DTSTAMP:20260420T131549
CREATED:20260202T194754Z
LAST-MODIFIED:20260202T194754Z
UID:10000279-1795651200-1795823999@www.somero.com
SUMMARY:No Classes
DESCRIPTION:
URL:https://www.somero.com/training-calendar/no-classes-12/
CATEGORIES:United States
END:VEVENT
BEGIN:VEVENT
DTSTART;VALUE=DATE:20261224
DTEND;VALUE=DATE:20261226
DTSTAMP:20260420T131549
CREATED:20260202T194827Z
LAST-MODIFIED:20260202T194827Z
UID:10000280-1798070400-1798243199@www.somero.com
SUMMARY:No Classes
DESCRIPTION:
URL:https://www.somero.com/training-calendar/no-classes-13/
CATEGORIES:United States
END:VEVENT
END:VCALENDAR