BEGIN:VCALENDAR
VERSION:2.0
PRODID:-//Somero - ECPv6.15.16//NONSGML v1.0//EN
CALSCALE:GREGORIAN
METHOD:PUBLISH
X-WR-CALNAME:Somero
X-ORIGINAL-URL:https://www.somero.com
X-WR-CALDESC:Events for Somero
REFRESH-INTERVAL;VALUE=DURATION:PT1H
X-Robots-Tag:noindex
X-PUBLISHED-TTL:PT1H
BEGIN:VTIMEZONE
TZID:UTC
BEGIN:STANDARD
TZOFFSETFROM:+0000
TZOFFSETTO:+0000
TZNAME:UTC
DTSTART:20250101T000000
END:STANDARD
END:VTIMEZONE
BEGIN:VEVENT
DTSTART;TZID=UTC:20260420T083000
DTEND;TZID=UTC:20260424T170000
DTSTAMP:20260420T080607
CREATED:20260204T161614Z
LAST-MODIFIED:20260204T161652Z
UID:10000379-1776673800-1777050000@www.somero.com
SUMMARY:No Classes
DESCRIPTION:NO CLASSES Week of 4/20-4/24/2026
URL:https://www.somero.com/training-calendar/no-classes-14/
CATEGORIES:United States
END:VEVENT
BEGIN:VEVENT
DTSTART;TZID=UTC:20260428T083000
DTEND;TZID=UTC:20260429T170000
DTSTAMP:20260420T080607
CREATED:20260306T171316Z
LAST-MODIFIED:20260306T171316Z
UID:10000386-1777365000-1777482000@www.somero.com
SUMMARY:SRS-4/e Oasis “Basics Operators”  Course # EUSCI-70001
DESCRIPTION:SRS-4/e “Basics”  – This is for NEW operators\, who’ve never screeded or used our equipment before    Note: No concrete placed during this class    Course # EUSCI-70001 \nNOTE: This class is in Kampenhout\, Belgium \nSOUND LIKE THE CLASS FOR YOU? \n REGISTER FOR THIS CLASS HERE \n**DO NOT SCHEDULE ANY TRAVEL ARRANGEMENTS PRIOR TO REGISTRATION CONFIRMATION**
URL:https://www.somero.com/training-calendar/srs-4-e-oasis-basics-operators-course-eusci-70001-2/2026-04-28/
CATEGORIES:Europe,SRS-4/e
END:VEVENT
BEGIN:VEVENT
DTSTART;TZID=UTC:20260429T083000
DTEND;TZID=UTC:20260430T170000
DTSTAMP:20260420T080607
CREATED:20260414T160505Z
LAST-MODIFIED:20260414T160505Z
UID:10000365-1777451400-1777568400@www.somero.com
SUMMARY:“DRY” S-22EZ+ Oasis “Basics” Course # SCI-10012-DRY
DESCRIPTION:“DRY” S-22EZ+  “Basics” –  This is for NEW operators\, who’ve never screeded or used our equipment before; or operators changing control systems ( i.e. – they’ve run only PA or GCS controls\, now going to Oasis controls)     Note: No concrete placed during this class. This class will use the S-22EZ \nCourse # SCI-10012-DRY \nNOTE: This class is at SCI Fort Myers\, Fl \nSOUND LIKE THE CLASS FOR YOU? \nREGISTER FOR THIS CLASS HERE\n  \n**DO NOT SCHEDULE ANY TRAVEL ARRANGEMENTS PRIOR TO REGISTRATION CONFIRMATION**
URL:https://www.somero.com/training-calendar/dry-s-22ez-oasis-basics-course-sci-10012-dry-14-3/
CATEGORIES:S-22EZ+,United States
END:VEVENT
END:VCALENDAR